BEGIN:VCALENDAR
VERSION:2.0
PRODID:-//The Showboat Blackpool - ECPv6.15.17//NONSGML v1.0//EN
CALSCALE:GREGORIAN
METHOD:PUBLISH
X-WR-CALNAME:The Showboat Blackpool
X-ORIGINAL-URL:https://showboatblackpool.com
X-WR-CALDESC:Events for The Showboat Blackpool
REFRESH-INTERVAL;VALUE=DURATION:PT1H
X-Robots-Tag:noindex
X-PUBLISHED-TTL:PT1H
BEGIN:VTIMEZONE
TZID:UTC
BEGIN:STANDARD
TZOFFSETFROM:+0000
TZOFFSETTO:+0000
TZNAME:UTC
DTSTART:20250101T000000
END:STANDARD
END:VTIMEZONE
BEGIN:VEVENT
DTSTART;TZID=UTC:20260805T190000
DTEND;TZID=UTC:20260805T230000
DTSTAMP:20260421T214556
CREATED:20260216T160543Z
LAST-MODIFIED:20260216T160543Z
UID:12187-1785956400-1785970800@showboatblackpool.com
SUMMARY:Step Into The Sixties - 5th August
DESCRIPTION:Starring Jared Lee & The Sabinelles. \nStep aboard The Showboat and dive into a night bursting with colour\, charisma\, and the unforgettable sounds of the swinging sixties. The Step into the Sixties Show brings the decade’s biggest hits to life in a vibrant celebration of music\, style\, and pure feel‑good nostalgia. \n\n\nThe Show stars the sensational Jared Lee \, a true heartthrob with a voice that stops audiences in their tracks. With effortless charm\, powerhouse vocals\, and a magnetic stage presence\, Jared delivers the songs everyone knows and loves with warmth\, passion\, and star quality that lights up the room.\n\nJoining him are the fabulous Sabinelles\, serving up a Sixties Show that’s camp\, sassy\, and outrageously funny. Their sparkling harmonies\, sharp wit\, and playful choreography capture the spirit of the era with a modern twist\, creating moments that are as hilarious as they are musically brilliant.\n\nTogether\, Jared Lee and The Sabinelles deliver a high‑energy\, feel‑good journey through the sixties packed with iconic hits\, dazzling costumes\, and the kind of atmosphere that gets everyone singing\, dancing\, and smiling all night long.\n\nA joyful\, nostalgic\, and unforgettable night of entertainment All aboard The Showboat.
URL:https://showboatblackpool.com/event/step-into-the-sixties-5th-august/
LOCATION:Ma Kellys Showboat\, Knowle Ave\, Blackpool\, Lancashire\, FY2 9RW\, United Kingdom
CATEGORIES:Visiting Shows
ATTACH;FMTTYPE=image/jpeg:https://showboatblackpool.com/wp-content/uploads/2026/02/SIXTIES-SM.jpg
END:VEVENT
BEGIN:VEVENT
DTSTART;TZID=UTC:20260812T193000
DTEND;TZID=UTC:20260812T230000
DTSTAMP:20260421T214556
CREATED:20260323T222141Z
LAST-MODIFIED:20260325T192155Z
UID:13187-1786563000-1786575600@showboatblackpool.com
SUMMARY:Curtain Up - 12th August
DESCRIPTION:Curtain Up – Live at The Showboat\, Blackpool Step into the spotlight and experience the magic of the West End as Curtain Up arrives at the Showboat\, Blackpool – a spectacular celebration of the world of musical theatre. \nStarring an outstanding cast of performers including Andrew Geater (Joseph)\, Reece Oliver (Funny Girls)\, Helen O’Neil (Boogie Nights) and Jennifer Jamieson (Whistle Down the Wind)\, and the dazzling Showboat Dancers This show brings together some of the most beloved songs ever written for the stage. From powerful ballads to show-stopping ensemble numbers\, Curtain Up takes audiences on a thrilling journey through the greatest musicals of all time. \nExpect soaring vocals\, unforgettable melodies\, and all the glitz\, glamour and drama that make musical theatre truly magical. Whether you’re a lifelong theatre lover or simply enjoy a great night of live entertainment\, Curtain Up promises an evening packed with spectacular performances\, iconic songs\, and pure theatrical joy. The curtain is rising… are you ready?
URL:https://showboatblackpool.com/event/curtain-up-12th-august/
LOCATION:Ma Kellys Showboat\, Knowle Ave\, Blackpool\, Lancashire\, FY2 9RW\, United Kingdom
CATEGORIES:Visiting Shows
ATTACH;FMTTYPE=image/jpeg:https://showboatblackpool.com/wp-content/uploads/2026/03/bee9e27e-c740-4a8e-85a7-3370b8268103.jpg
END:VEVENT
BEGIN:VEVENT
DTSTART;TZID=UTC:20260828T190000
DTEND;TZID=UTC:20260828T230000
DTSTAMP:20260421T214556
CREATED:20260216T162316Z
LAST-MODIFIED:20260216T164934Z
UID:12205-1787943600-1787958000@showboatblackpool.com
SUMMARY:Big Men In Town - 28th August
DESCRIPTION:Exquisite vocals and razor-sharp harmonies bring the incredible rise\, fall\, and triumph of Frankie Valli & The Four Seasons to life. Big Men In Town delivers a thrilling journey through the music\, story\, and spirit behind the legendary Jersey Boys sound\, packed with energy\, nostalgia\, and timeless hits.
URL:https://showboatblackpool.com/event/big-men-in-town-28th-august/
LOCATION:Ma Kellys Showboat\, Knowle Ave\, Blackpool\, Lancashire\, FY2 9RW\, United Kingdom
CATEGORIES:Visiting Shows
ATTACH;FMTTYPE=image/png:https://showboatblackpool.com/wp-content/uploads/2026/02/BMIT-SM.png
END:VEVENT
BEGIN:VEVENT
DTSTART;TZID=UTC:20260902T190000
DTEND;TZID=UTC:20260902T230000
DTSTAMP:20260421T214556
CREATED:20260216T160804Z
LAST-MODIFIED:20260216T164949Z
UID:12190-1788375600-1788390000@showboatblackpool.com
SUMMARY:Step Into The Sixties - 2nd September
DESCRIPTION:Starring Jared Lee & The Sabinelles. \nStep aboard The Showboat and dive into a night bursting with colour\, charisma\, and the unforgettable sounds of the swinging sixties. The Step into the Sixties Show brings the decade’s biggest hits to life in a vibrant celebration of music\, style\, and pure feel‑good nostalgia. \n\n\nThe Show stars the sensational Jared Lee \, a true heartthrob with a voice that stops audiences in their tracks. With effortless charm\, powerhouse vocals\, and a magnetic stage presence\, Jared delivers the songs everyone knows and loves with warmth\, passion\, and star quality that lights up the room.\n\nJoining him are the fabulous Sabinelles\, serving up a Sixties Show that’s camp\, sassy\, and outrageously funny. Their sparkling harmonies\, sharp wit\, and playful choreography capture the spirit of the era with a modern twist\, creating moments that are as hilarious as they are musically brilliant.\n\nTogether\, Jared Lee and The Sabinelles deliver a high‑energy\, feel‑good journey through the sixties packed with iconic hits\, dazzling costumes\, and the kind of atmosphere that gets everyone singing\, dancing\, and smiling all night long.\n\nA joyful\, nostalgic\, and unforgettable night of entertainment All aboard The Showboat.
URL:https://showboatblackpool.com/event/step-into-the-sixties-2nd-september/
LOCATION:Ma Kellys Showboat\, Knowle Ave\, Blackpool\, Lancashire\, FY2 9RW\, United Kingdom
CATEGORIES:Visiting Shows
ATTACH;FMTTYPE=image/jpeg:https://showboatblackpool.com/wp-content/uploads/2026/02/SIXTIES-SM.jpg
END:VEVENT
BEGIN:VEVENT
DTSTART;TZID=UTC:20260916T193000
DTEND;TZID=UTC:20260916T230000
DTSTAMP:20260421T214556
CREATED:20260323T222233Z
LAST-MODIFIED:20260323T222233Z
UID:13189-1789587000-1789599600@showboatblackpool.com
SUMMARY:Curtain Up - 16th September
DESCRIPTION:Curtain Up – Live at The Showboat\, Blackpool Step into the spotlight and experience the magic of the West End as Curtain Up arrives at the Showboat\, Blackpool – a spectacular celebration of the world of musical theatre. \nStarring an outstanding cast of performers including Andrew Geater (Joseph)\, Reece Oliver (Funny Girls)\, Helen O’Neil (Boogie Nights) and Jennifer Jamieson (Whistle Down the Wind)\, and the dazzling Showboat Dancers This show brings together some of the most beloved songs ever written for the stage. From powerful ballads to show-stopping ensemble numbers\, Curtain Up takes audiences on a thrilling journey through the greatest musicals of all time. \nExpect soaring vocals\, unforgettable melodies\, and all the glitz\, glamour and drama that make musical theatre truly magical. Whether you’re a lifelong theatre lover or simply enjoy a great night of live entertainment\, Curtain Up promises an evening packed with spectacular performances\, iconic songs\, and pure theatrical joy. The curtain is rising… are you ready?
URL:https://showboatblackpool.com/event/curtain-up-16th-september/
LOCATION:Ma Kellys Showboat\, Knowle Ave\, Blackpool\, Lancashire\, FY2 9RW\, United Kingdom
CATEGORIES:Visiting Shows
ATTACH;FMTTYPE=image/jpeg:https://showboatblackpool.com/wp-content/uploads/2026/03/bee9e27e-c740-4a8e-85a7-3370b8268103.jpg
END:VEVENT
BEGIN:VEVENT
DTSTART;TZID=UTC:20260919T190000
DTEND;TZID=UTC:20260919T230000
DTSTAMP:20260421T214556
CREATED:20260216T163016Z
LAST-MODIFIED:20260216T190906Z
UID:12213-1789844400-1789858800@showboatblackpool.com
SUMMARY:The Elvis Story - 19th September
DESCRIPTION:The Elvis Story is an electrifying tribute starring Jared Lee\, taking audiences on a powerful journey through the life and music of the King of Rock ’n’ Roll. \nThe show begins where it all started in 1954\, with Elvis’ groundbreaking first sessions at Sun Studios\, and follows his meteoric rise through the explosive 1950s\, his induction into the U.S. Army\, and the legendary 1968 NBC Comeback Special. From there\, The Elvis Story captures Elvis’ triumphant return to live performance\, spanning the iconic years from 1969 to 1977. This authentic recreation celebrates every era of Elvis’ career\, delivering the unmistakable rhythm\, movement\, costumes\, and spirit that made Elvis Presley a global phenomenon. \nWith authentic vocals\, signature moves\, stunning costumes\, a full live band and singers\, plus big-screen visuals\, The Elvis Story delivers the rhythm\, energy\, and essence of the King like never before. This is a tribute show like no other — you won’t just watch it… you’ll believe it.
URL:https://showboatblackpool.com/event/the-elvis-story-19th-september/
LOCATION:Ma Kellys Showboat\, Knowle Ave\, Blackpool\, Lancashire\, FY2 9RW\, United Kingdom
CATEGORIES:Visiting Shows
ATTACH;FMTTYPE=image/jpeg:https://showboatblackpool.com/wp-content/uploads/2026/02/ELVIS-STORY-LOGO.jpg
END:VEVENT
BEGIN:VEVENT
DTSTART;TZID=UTC:20261007T190000
DTEND;TZID=UTC:20261007T230000
DTSTAMP:20260421T214556
CREATED:20260216T161040Z
LAST-MODIFIED:20260216T164958Z
UID:12193-1791399600-1791414000@showboatblackpool.com
SUMMARY:Step Into The Sixties - 7th October
DESCRIPTION:Starring Jared Lee & The Sabinelles. \nStep aboard The Showboat and dive into a night bursting with colour\, charisma\, and the unforgettable sounds of the swinging sixties. The Step into the Sixties Show brings the decade’s biggest hits to life in a vibrant celebration of music\, style\, and pure feel‑good nostalgia. \n\n\nThe Show stars the sensational Jared Lee \, a true heartthrob with a voice that stops audiences in their tracks. With effortless charm\, powerhouse vocals\, and a magnetic stage presence\, Jared delivers the songs everyone knows and loves with warmth\, passion\, and star quality that lights up the room.\n\nJoining him are the fabulous Sabinelles\, serving up a Sixties Show that’s camp\, sassy\, and outrageously funny. Their sparkling harmonies\, sharp wit\, and playful choreography capture the spirit of the era with a modern twist\, creating moments that are as hilarious as they are musically brilliant.\n\nTogether\, Jared Lee and The Sabinelles deliver a high‑energy\, feel‑good journey through the sixties packed with iconic hits\, dazzling costumes\, and the kind of atmosphere that gets everyone singing\, dancing\, and smiling all night long.\n\nA joyful\, nostalgic\, and unforgettable night of entertainment All aboard The Showboat.
URL:https://showboatblackpool.com/event/step-into-the-sixties-7th-october/
LOCATION:Ma Kellys Showboat\, Knowle Ave\, Blackpool\, Lancashire\, FY2 9RW\, United Kingdom
CATEGORIES:Visiting Shows
ATTACH;FMTTYPE=image/jpeg:https://showboatblackpool.com/wp-content/uploads/2026/02/SIXTIES-SM.jpg
END:VEVENT
BEGIN:VEVENT
DTSTART;TZID=UTC:20261204T190000
DTEND;TZID=UTC:20261204T230000
DTSTAMP:20260421T214556
CREATED:20260216T163129Z
LAST-MODIFIED:20260216T190906Z
UID:12214-1796410800-1796425200@showboatblackpool.com
SUMMARY:The Elvis Story - 4th December
DESCRIPTION:The Elvis Story is an electrifying tribute starring Jared Lee\, taking audiences on a powerful journey through the life and music of the King of Rock ’n’ Roll. \nThe show begins where it all started in 1954\, with Elvis’ groundbreaking first sessions at Sun Studios\, and follows his meteoric rise through the explosive 1950s\, his induction into the U.S. Army\, and the legendary 1968 NBC Comeback Special. From there\, The Elvis Story captures Elvis’ triumphant return to live performance\, spanning the iconic years from 1969 to 1977. This authentic recreation celebrates every era of Elvis’ career\, delivering the unmistakable rhythm\, movement\, costumes\, and spirit that made Elvis Presley a global phenomenon. \nWith authentic vocals\, signature moves\, stunning costumes\, a full live band and singers\, plus big-screen visuals\, The Elvis Story delivers the rhythm\, energy\, and essence of the King like never before. This is a tribute show like no other — you won’t just watch it… you’ll believe it.
URL:https://showboatblackpool.com/event/the-elvis-story-4th-december/
LOCATION:Ma Kellys Showboat\, Knowle Ave\, Blackpool\, Lancashire\, FY2 9RW\, United Kingdom
CATEGORIES:Visiting Shows
ATTACH;FMTTYPE=image/jpeg:https://showboatblackpool.com/wp-content/uploads/2026/02/ELVIS-STORY-LOGO.jpg
END:VEVENT
BEGIN:VEVENT
DTSTART;TZID=UTC:20270228T190000
DTEND;TZID=UTC:20270228T233000
DTSTAMP:20260421T214556
CREATED:20260413T125824Z
LAST-MODIFIED:20260413T125824Z
UID:14024-1803841200-1803857400@showboatblackpool.com
SUMMARY:The All Star Charity Concert - 28th Feb
DESCRIPTION:The All Star Charity Concert is back by popular demand!\n\nJoin us for an unforgettable night of world-class entertainment as The All Star Charity Concert returns to raise vital funds for Rosemere Cancer Foundation.\n\nExperience stunning tributes from some of the finest performers on the circuit\, paying homage to the legends: Tom Jones\, Cher\, Shania Twain\, Elton John and Take That Hosted by the Sensational Reece Oliver\, this is a spectacular evening packed with hit after hit\, dazzling costumes\, live energy\, and some very special big surprises you won’t want to miss!\n\nAll Profits from ticket sales goes straight to Rosemere Cancer Foundation\, supporting local cancer care and making a real difference to patients and families in our community.\n\nTickets are now on sale – secure yours today for a fantastic night of music\, laughter\, and feel-good fundraising! Let’s make this the biggest and best All Star Charity Concert yet!
URL:https://showboatblackpool.com/event/the-all-star-charity-concert-28th-feb/
LOCATION:Ma Kellys Showboat\, Knowle Ave\, Blackpool\, Lancashire\, FY2 9RW\, United Kingdom
CATEGORIES:Visiting Shows
ATTACH;FMTTYPE=image/png:https://showboatblackpool.com/wp-content/uploads/2026/04/unnamed.png
END:VEVENT
END:VCALENDAR