BEGIN:VCALENDAR
VERSION:2.0
PRODID:-//The Showboat Blackpool - ECPv6.15.17//NONSGML v1.0//EN
CALSCALE:GREGORIAN
METHOD:PUBLISH
X-WR-CALNAME:The Showboat Blackpool
X-ORIGINAL-URL:https://showboatblackpool.com
X-WR-CALDESC:Events for The Showboat Blackpool
REFRESH-INTERVAL;VALUE=DURATION:PT1H
X-Robots-Tag:noindex
X-PUBLISHED-TTL:PT1H
BEGIN:VTIMEZONE
TZID:UTC
BEGIN:STANDARD
TZOFFSETFROM:+0000
TZOFFSETTO:+0000
TZNAME:UTC
DTSTART:20250101T000000
END:STANDARD
END:VTIMEZONE
BEGIN:VEVENT
DTSTART;TZID=UTC:20260401T190000
DTEND;TZID=UTC:20260401T230000
DTSTAMP:20260421T115053
CREATED:20260216T154037Z
LAST-MODIFIED:20260216T160105Z
UID:12173-1775070000-1775084400@showboatblackpool.com
SUMMARY:Step Into The Sixties - 1st April
DESCRIPTION:Starring Jared Lee & The Sabinelles. \nStep aboard The Showboat and dive into a night bursting with colour\, charisma\, and the unforgettable sounds of the swinging sixties. The Step into the Sixties Show brings the decade’s biggest hits to life in a vibrant celebration of music\, style\, and pure feel‑good nostalgia. \n\n\nThe Show stars the sensational Jared Lee \, a true heartthrob with a voice that stops audiences in their tracks. With effortless charm\, powerhouse vocals\, and a magnetic stage presence\, Jared delivers the songs everyone knows and loves with warmth\, passion\, and star quality that lights up the room.\n\nJoining him are the fabulous Sabinelles\, serving up a Sixties Show that’s camp\, sassy\, and outrageously funny. Their sparkling harmonies\, sharp wit\, and playful choreography capture the spirit of the era with a modern twist\, creating moments that are as hilarious as they are musically brilliant.\n\nTogether\, Jared Lee and The Sabinelles deliver a high‑energy\, feel‑good journey through the sixties packed with iconic hits\, dazzling costumes\, and the kind of atmosphere that gets everyone singing\, dancing\, and smiling all night long.\n\nA joyful\, nostalgic\, and unforgettable night of entertainment All aboard The Showboat.
URL:https://showboatblackpool.com/event/step-into-the-sixties-1st-april/
LOCATION:Ma Kellys Showboat\, Knowle Ave\, Blackpool\, Lancashire\, FY2 9RW\, United Kingdom
CATEGORIES:Visiting Shows
ATTACH;FMTTYPE=image/jpeg:https://showboatblackpool.com/wp-content/uploads/2026/02/SIXTIES-SM.jpg
END:VEVENT
END:VCALENDAR