BEGIN:VCALENDAR
VERSION:2.0
PRODID:-//The Showboat Blackpool - ECPv6.15.17//NONSGML v1.0//EN
CALSCALE:GREGORIAN
METHOD:PUBLISH
X-ORIGINAL-URL:https://showboatblackpool.com
X-WR-CALDESC:Events for The Showboat Blackpool
REFRESH-INTERVAL;VALUE=DURATION:PT1H
X-Robots-Tag:noindex
X-PUBLISHED-TTL:PT1H
BEGIN:VTIMEZONE
TZID:UTC
BEGIN:STANDARD
TZOFFSETFROM:+0000
TZOFFSETTO:+0000
TZNAME:UTC
DTSTART:20250101T000000
END:STANDARD
END:VTIMEZONE
BEGIN:VEVENT
DTSTART;TZID=UTC:20261031T190000
DTEND;TZID=UTC:20261031T230000
DTSTAMP:20260421T202745
CREATED:20260213T224528Z
LAST-MODIFIED:20260313T101145Z
UID:12128-1793473200-1793487600@showboatblackpool.com
SUMMARY:The Showboat Showstopper - 31st October
DESCRIPTION:BIGGER\, BOLDER & BACK for 2026! The Showboat Showstopper! \nThe Showboat Showstopper is a dazzling\, high class variety spectacular\, packed with big voices\, sharp comedy and showstopping moments from start to finish. \nHosted and starring the incomparable Reece Oliver\, the show is driven by quick wit\, effortless charm and laugh out loud comedy\, all delivered with impeccable timing and style. Reece leads the evening with a confident sparkle that keeps audiences engaged\, entertained\, and wanting more. \nBringing the music to life are powerhouse vocalists Andrew Geater\, Helen O’Neil and Rebecca Duignan\, delivering stunning live performances across a range of different music styles. Completing the spectacle are The Showboat Showgirls adding their slick choreography\, precision and flair that add a taste of luxury to the evening. \nBlending comedy\, live singing and dance\, The Showboat Showstopper is a celebration of classic entertainment with a modern high-end twist. Stylish\, fun and unapologetically entertaining\, it’s a night of pure showbiz magic where laughter is guaranteed\, the music shines\, and every moment sparkles. \nBOOK NOW for Blackpool’s best Summer Spectacular!
URL:https://showboatblackpool.com/event/the-showboat-showstopper-31st-october/
LOCATION:Ma Kellys Showboat\, Knowle Ave\, Blackpool\, Lancashire\, FY2 9RW\, United Kingdom
CATEGORIES:Saturday Events,Showstopper
ATTACH;FMTTYPE=image/jpeg:https://showboatblackpool.com/wp-content/uploads/2026/02/showstopper.jpeg
END:VEVENT
END:VCALENDAR