BEGIN:VCALENDAR
VERSION:2.0
PRODID:-//The Showboat Blackpool - ECPv6.15.17//NONSGML v1.0//EN
CALSCALE:GREGORIAN
METHOD:PUBLISH
X-WR-CALNAME:The Showboat Blackpool
X-ORIGINAL-URL:https://showboatblackpool.com
X-WR-CALDESC:Events for The Showboat Blackpool
REFRESH-INTERVAL;VALUE=DURATION:PT1H
X-Robots-Tag:noindex
X-PUBLISHED-TTL:PT1H
BEGIN:VTIMEZONE
TZID:UTC
BEGIN:STANDARD
TZOFFSETFROM:+0000
TZOFFSETTO:+0000
TZNAME:UTC
DTSTART:20250101T000000
END:STANDARD
END:VTIMEZONE
BEGIN:VEVENT
DTSTART;TZID=UTC:20260808T190000
DTEND;TZID=UTC:20260808T230000
DTSTAMP:20260421T195511
CREATED:20260213T221337Z
LAST-MODIFIED:20260313T101225Z
UID:12083-1786215600-1786230000@showboatblackpool.com
SUMMARY:The Showboat Showstopper - 8th August
DESCRIPTION:BIGGER\, BOLDER & BACK for 2026! The Showboat Showstopper! \nThe Showboat Showstopper is a dazzling\, high class variety spectacular\, packed with big voices\, sharp comedy and showstopping moments from start to finish. \nHosted and starring the incomparable Reece Oliver\, the show is driven by quick wit\, effortless charm and laugh out loud comedy\, all delivered with impeccable timing and style. Reece leads the evening with a confident sparkle that keeps audiences engaged\, entertained\, and wanting more. \nBringing the music to life are powerhouse vocalists Andrew Geater\, Helen O’Neil and Rebecca Duignan\, delivering stunning live performances across a range of different music styles. Completing the spectacle are The Showboat Showgirls adding their slick choreography\, precision and flair that add a taste of luxury to the evening. \nBlending comedy\, live singing and dance\, The Showboat Showstopper is a celebration of classic entertainment with a modern high-end twist. Stylish\, fun and unapologetically entertaining\, it’s a night of pure showbiz magic where laughter is guaranteed\, the music shines\, and every moment sparkles. \nBOOK NOW for Blackpool’s best Summer Spectacular!
URL:https://showboatblackpool.com/event/the-showboat-showstopper-8th-august/
LOCATION:Ma Kellys Showboat\, Knowle Ave\, Blackpool\, Lancashire\, FY2 9RW\, United Kingdom
CATEGORIES:Saturday Events,Showstopper
ATTACH;FMTTYPE=image/jpeg:https://showboatblackpool.com/wp-content/uploads/2026/02/showstopper.jpeg
END:VEVENT
BEGIN:VEVENT
DTSTART;TZID=UTC:20260815T190000
DTEND;TZID=UTC:20260815T230000
DTSTAMP:20260421T195511
CREATED:20260213T221448Z
LAST-MODIFIED:20260313T101224Z
UID:12086-1786820400-1786834800@showboatblackpool.com
SUMMARY:The Showboat Showstopper - 15th August
DESCRIPTION:BIGGER\, BOLDER & BACK for 2026! The Showboat Showstopper! \nThe Showboat Showstopper is a dazzling\, high class variety spectacular\, packed with big voices\, sharp comedy and showstopping moments from start to finish. \nHosted and starring the incomparable Reece Oliver\, the show is driven by quick wit\, effortless charm and laugh out loud comedy\, all delivered with impeccable timing and style. Reece leads the evening with a confident sparkle that keeps audiences engaged\, entertained\, and wanting more. \nBringing the music to life are powerhouse vocalists Andrew Geater\, Helen O’Neil and Rebecca Duignan\, delivering stunning live performances across a range of different music styles. Completing the spectacle are The Showboat Showgirls adding their slick choreography\, precision and flair that add a taste of luxury to the evening. \nBlending comedy\, live singing and dance\, The Showboat Showstopper is a celebration of classic entertainment with a modern high-end twist. Stylish\, fun and unapologetically entertaining\, it’s a night of pure showbiz magic where laughter is guaranteed\, the music shines\, and every moment sparkles. \nBOOK NOW for Blackpool’s best Summer Spectacular!
URL:https://showboatblackpool.com/event/the-showboat-showstopper-15th-august/
LOCATION:Ma Kellys Showboat\, Knowle Ave\, Blackpool\, Lancashire\, FY2 9RW\, United Kingdom
CATEGORIES:Saturday Events,Showstopper
ATTACH;FMTTYPE=image/jpeg:https://showboatblackpool.com/wp-content/uploads/2026/02/showstopper.jpeg
END:VEVENT
BEGIN:VEVENT
DTSTART;TZID=UTC:20260822T190000
DTEND;TZID=UTC:20260822T230000
DTSTAMP:20260421T195511
CREATED:20260213T221601Z
LAST-MODIFIED:20260313T101224Z
UID:12089-1787425200-1787439600@showboatblackpool.com
SUMMARY:The Showboat Showstopper - 22nd August
DESCRIPTION:BIGGER\, BOLDER & BACK for 2026! The Showboat Showstopper! \nThe Showboat Showstopper is a dazzling\, high class variety spectacular\, packed with big voices\, sharp comedy and showstopping moments from start to finish. \nHosted and starring the incomparable Reece Oliver\, the show is driven by quick wit\, effortless charm and laugh out loud comedy\, all delivered with impeccable timing and style. Reece leads the evening with a confident sparkle that keeps audiences engaged\, entertained\, and wanting more. \nBringing the music to life are powerhouse vocalists Andrew Geater\, Helen O’Neil and Rebecca Duignan\, delivering stunning live performances across a range of different music styles. Completing the spectacle are The Showboat Showgirls adding their slick choreography\, precision and flair that add a taste of luxury to the evening. \nBlending comedy\, live singing and dance\, The Showboat Showstopper is a celebration of classic entertainment with a modern high-end twist. Stylish\, fun and unapologetically entertaining\, it’s a night of pure showbiz magic where laughter is guaranteed\, the music shines\, and every moment sparkles. \nBOOK NOW for Blackpool’s best Summer Spectacular!
URL:https://showboatblackpool.com/event/the-showboat-showstopper-22nd-august/
LOCATION:Ma Kellys Showboat\, Knowle Ave\, Blackpool\, Lancashire\, FY2 9RW\, United Kingdom
CATEGORIES:Saturday Events,Showstopper
ATTACH;FMTTYPE=image/jpeg:https://showboatblackpool.com/wp-content/uploads/2026/02/showstopper.jpeg
END:VEVENT
BEGIN:VEVENT
DTSTART;TZID=UTC:20260829T190000
DTEND;TZID=UTC:20260829T230000
DTSTAMP:20260421T195511
CREATED:20260213T221719Z
LAST-MODIFIED:20260313T101223Z
UID:12092-1788030000-1788044400@showboatblackpool.com
SUMMARY:The Showboat Showstopper - 29th August
DESCRIPTION:BIGGER\, BOLDER & BACK for 2026! The Showboat Showstopper! \nThe Showboat Showstopper is a dazzling\, high class variety spectacular\, packed with big voices\, sharp comedy and showstopping moments from start to finish. \nHosted and starring the incomparable Reece Oliver\, the show is driven by quick wit\, effortless charm and laugh out loud comedy\, all delivered with impeccable timing and style. Reece leads the evening with a confident sparkle that keeps audiences engaged\, entertained\, and wanting more. \nBringing the music to life are powerhouse vocalists Andrew Geater\, Helen O’Neil and Rebecca Duignan\, delivering stunning live performances across a range of different music styles. Completing the spectacle are The Showboat Showgirls adding their slick choreography\, precision and flair that add a taste of luxury to the evening. \nBlending comedy\, live singing and dance\, The Showboat Showstopper is a celebration of classic entertainment with a modern high-end twist. Stylish\, fun and unapologetically entertaining\, it’s a night of pure showbiz magic where laughter is guaranteed\, the music shines\, and every moment sparkles. \nBOOK NOW for Blackpool’s best Summer Spectacular!
URL:https://showboatblackpool.com/event/the-showboat-showstopper-29th-august/
LOCATION:Ma Kellys Showboat\, Knowle Ave\, Blackpool\, Lancashire\, FY2 9RW\, United Kingdom
CATEGORIES:Saturday Events,Showstopper
ATTACH;FMTTYPE=image/jpeg:https://showboatblackpool.com/wp-content/uploads/2026/02/showstopper.jpeg
END:VEVENT
BEGIN:VEVENT
DTSTART;TZID=UTC:20260905T190000
DTEND;TZID=UTC:20260905T230000
DTSTAMP:20260421T195511
CREATED:20260213T222535Z
LAST-MODIFIED:20260313T101148Z
UID:12095-1788634800-1788649200@showboatblackpool.com
SUMMARY:The Showboat Showstopper - 5th September
DESCRIPTION:BIGGER\, BOLDER & BACK for 2026! The Showboat Showstopper! \nThe Showboat Showstopper is a dazzling\, high class variety spectacular\, packed with big voices\, sharp comedy and showstopping moments from start to finish. \nHosted and starring the incomparable Reece Oliver\, the show is driven by quick wit\, effortless charm and laugh out loud comedy\, all delivered with impeccable timing and style. Reece leads the evening with a confident sparkle that keeps audiences engaged\, entertained\, and wanting more. \nBringing the music to life are powerhouse vocalists Andrew Geater\, Helen O’Neil and Rebecca Duignan\, delivering stunning live performances across a range of different music styles. Completing the spectacle are The Showboat Showgirls adding their slick choreography\, precision and flair that add a taste of luxury to the evening. \nBlending comedy\, live singing and dance\, The Showboat Showstopper is a celebration of classic entertainment with a modern high-end twist. Stylish\, fun and unapologetically entertaining\, it’s a night of pure showbiz magic where laughter is guaranteed\, the music shines\, and every moment sparkles. \nBOOK NOW for Blackpool’s best Summer Spectacular!
URL:https://showboatblackpool.com/event/the-showboat-showstopper-5th-september/
LOCATION:Ma Kellys Showboat\, Knowle Ave\, Blackpool\, Lancashire\, FY2 9RW\, United Kingdom
CATEGORIES:Saturday Events,Showstopper
ATTACH;FMTTYPE=image/jpeg:https://showboatblackpool.com/wp-content/uploads/2026/02/showstopper.jpeg
END:VEVENT
BEGIN:VEVENT
DTSTART;TZID=UTC:20260912T190000
DTEND;TZID=UTC:20260912T230000
DTSTAMP:20260421T195511
CREATED:20260213T222653Z
LAST-MODIFIED:20260313T101147Z
UID:12098-1789239600-1789254000@showboatblackpool.com
SUMMARY:The Showboat Showstopper - 12th September
DESCRIPTION:BIGGER\, BOLDER & BACK for 2026! The Showboat Showstopper! \nThe Showboat Showstopper is a dazzling\, high class variety spectacular\, packed with big voices\, sharp comedy and showstopping moments from start to finish. \nHosted and starring the incomparable Reece Oliver\, the show is driven by quick wit\, effortless charm and laugh out loud comedy\, all delivered with impeccable timing and style. Reece leads the evening with a confident sparkle that keeps audiences engaged\, entertained\, and wanting more. \nBringing the music to life are powerhouse vocalists Andrew Geater\, Helen O’Neil and Rebecca Duignan\, delivering stunning live performances across a range of different music styles. Completing the spectacle are The Showboat Showgirls adding their slick choreography\, precision and flair that add a taste of luxury to the evening. \nBlending comedy\, live singing and dance\, The Showboat Showstopper is a celebration of classic entertainment with a modern high-end twist. Stylish\, fun and unapologetically entertaining\, it’s a night of pure showbiz magic where laughter is guaranteed\, the music shines\, and every moment sparkles. \nBOOK NOW for Blackpool’s best Summer Spectacular!
URL:https://showboatblackpool.com/event/the-showboat-showstopper-12th-september/
LOCATION:Ma Kellys Showboat\, Knowle Ave\, Blackpool\, Lancashire\, FY2 9RW\, United Kingdom
CATEGORIES:Saturday Events,Showstopper
ATTACH;FMTTYPE=image/jpeg:https://showboatblackpool.com/wp-content/uploads/2026/02/showstopper.jpeg
END:VEVENT
BEGIN:VEVENT
DTSTART;TZID=UTC:20261003T190000
DTEND;TZID=UTC:20261003T230000
DTSTAMP:20260421T195511
CREATED:20260213T223950Z
LAST-MODIFIED:20260313T101146Z
UID:12116-1791054000-1791068400@showboatblackpool.com
SUMMARY:The Showboat Showstopper - 3rd October
DESCRIPTION:BIGGER\, BOLDER & BACK for 2026! The Showboat Showstopper! \nThe Showboat Showstopper is a dazzling\, high class variety spectacular\, packed with big voices\, sharp comedy and showstopping moments from start to finish. \nHosted and starring the incomparable Reece Oliver\, the show is driven by quick wit\, effortless charm and laugh out loud comedy\, all delivered with impeccable timing and style. Reece leads the evening with a confident sparkle that keeps audiences engaged\, entertained\, and wanting more. \nBringing the music to life are powerhouse vocalists Andrew Geater\, Helen O’Neil and Rebecca Duignan\, delivering stunning live performances across a range of different music styles. Completing the spectacle are The Showboat Showgirls adding their slick choreography\, precision and flair that add a taste of luxury to the evening. \nBlending comedy\, live singing and dance\, The Showboat Showstopper is a celebration of classic entertainment with a modern high-end twist. Stylish\, fun and unapologetically entertaining\, it’s a night of pure showbiz magic where laughter is guaranteed\, the music shines\, and every moment sparkles. \nBOOK NOW for Blackpool’s best Summer Spectacular!
URL:https://showboatblackpool.com/event/the-showboat-showstopper-3rd-october/
LOCATION:Ma Kellys Showboat\, Knowle Ave\, Blackpool\, Lancashire\, FY2 9RW\, United Kingdom
CATEGORIES:Saturday Events,Showstopper
ATTACH;FMTTYPE=image/jpeg:https://showboatblackpool.com/wp-content/uploads/2026/02/showstopper.jpeg
END:VEVENT
BEGIN:VEVENT
DTSTART;TZID=UTC:20261010T190000
DTEND;TZID=UTC:20261010T230000
DTSTAMP:20260421T195511
CREATED:20260213T224120Z
LAST-MODIFIED:20260313T101146Z
UID:12119-1791658800-1791673200@showboatblackpool.com
SUMMARY:The Showboat Showstopper - 10th October
DESCRIPTION:BIGGER\, BOLDER & BACK for 2026! The Showboat Showstopper! \nThe Showboat Showstopper is a dazzling\, high class variety spectacular\, packed with big voices\, sharp comedy and showstopping moments from start to finish. \nHosted and starring the incomparable Reece Oliver\, the show is driven by quick wit\, effortless charm and laugh out loud comedy\, all delivered with impeccable timing and style. Reece leads the evening with a confident sparkle that keeps audiences engaged\, entertained\, and wanting more. \nBringing the music to life are powerhouse vocalists Andrew Geater\, Helen O’Neil and Rebecca Duignan\, delivering stunning live performances across a range of different music styles. Completing the spectacle are The Showboat Showgirls adding their slick choreography\, precision and flair that add a taste of luxury to the evening. \nBlending comedy\, live singing and dance\, The Showboat Showstopper is a celebration of classic entertainment with a modern high-end twist. Stylish\, fun and unapologetically entertaining\, it’s a night of pure showbiz magic where laughter is guaranteed\, the music shines\, and every moment sparkles. \nBOOK NOW for Blackpool’s best Summer Spectacular!
URL:https://showboatblackpool.com/event/the-showboat-showstopper-10th-october/
LOCATION:Ma Kellys Showboat\, Knowle Ave\, Blackpool\, Lancashire\, FY2 9RW\, United Kingdom
CATEGORIES:Saturday Events,Showstopper
ATTACH;FMTTYPE=image/jpeg:https://showboatblackpool.com/wp-content/uploads/2026/02/showstopper.jpeg
END:VEVENT
BEGIN:VEVENT
DTSTART;TZID=UTC:20261017T190000
DTEND;TZID=UTC:20261017T230000
DTSTAMP:20260421T195511
CREATED:20260213T224231Z
LAST-MODIFIED:20260313T101146Z
UID:12120-1792263600-1792278000@showboatblackpool.com
SUMMARY:The Showboat Showstopper - 17th October
DESCRIPTION:BIGGER\, BOLDER & BACK for 2026! The Showboat Showstopper! \nThe Showboat Showstopper is a dazzling\, high class variety spectacular\, packed with big voices\, sharp comedy and showstopping moments from start to finish. \nHosted and starring the incomparable Reece Oliver\, the show is driven by quick wit\, effortless charm and laugh out loud comedy\, all delivered with impeccable timing and style. Reece leads the evening with a confident sparkle that keeps audiences engaged\, entertained\, and wanting more. \nBringing the music to life are powerhouse vocalists Andrew Geater\, Helen O’Neil and Rebecca Duignan\, delivering stunning live performances across a range of different music styles. Completing the spectacle are The Showboat Showgirls adding their slick choreography\, precision and flair that add a taste of luxury to the evening. \nBlending comedy\, live singing and dance\, The Showboat Showstopper is a celebration of classic entertainment with a modern high-end twist. Stylish\, fun and unapologetically entertaining\, it’s a night of pure showbiz magic where laughter is guaranteed\, the music shines\, and every moment sparkles. \nBOOK NOW for Blackpool’s best Summer Spectacular!
URL:https://showboatblackpool.com/event/the-showboat-showstopper-17th-october/
LOCATION:Ma Kellys Showboat\, Knowle Ave\, Blackpool\, Lancashire\, FY2 9RW\, United Kingdom
CATEGORIES:Saturday Events,Showstopper
ATTACH;FMTTYPE=image/jpeg:https://showboatblackpool.com/wp-content/uploads/2026/02/showstopper.jpeg
END:VEVENT
BEGIN:VEVENT
DTSTART;TZID=UTC:20261024T190000
DTEND;TZID=UTC:20261024T230000
DTSTAMP:20260421T195511
CREATED:20260213T224415Z
LAST-MODIFIED:20260313T101146Z
UID:12124-1792868400-1792882800@showboatblackpool.com
SUMMARY:The Showboat Showstopper - 24th October
DESCRIPTION:BIGGER\, BOLDER & BACK for 2026! The Showboat Showstopper! \nThe Showboat Showstopper is a dazzling\, high class variety spectacular\, packed with big voices\, sharp comedy and showstopping moments from start to finish. \nHosted and starring the incomparable Reece Oliver\, the show is driven by quick wit\, effortless charm and laugh out loud comedy\, all delivered with impeccable timing and style. Reece leads the evening with a confident sparkle that keeps audiences engaged\, entertained\, and wanting more. \nBringing the music to life are powerhouse vocalists Andrew Geater\, Helen O’Neil and Rebecca Duignan\, delivering stunning live performances across a range of different music styles. Completing the spectacle are The Showboat Showgirls adding their slick choreography\, precision and flair that add a taste of luxury to the evening. \nBlending comedy\, live singing and dance\, The Showboat Showstopper is a celebration of classic entertainment with a modern high-end twist. Stylish\, fun and unapologetically entertaining\, it’s a night of pure showbiz magic where laughter is guaranteed\, the music shines\, and every moment sparkles. \nBOOK NOW for Blackpool’s best Summer Spectacular!
URL:https://showboatblackpool.com/event/the-showboat-showstopper-24th-october/
LOCATION:Ma Kellys Showboat\, Knowle Ave\, Blackpool\, Lancashire\, FY2 9RW\, United Kingdom
CATEGORIES:Saturday Events,Showstopper
ATTACH;FMTTYPE=image/jpeg:https://showboatblackpool.com/wp-content/uploads/2026/02/showstopper.jpeg
END:VEVENT
BEGIN:VEVENT
DTSTART;TZID=UTC:20261031T190000
DTEND;TZID=UTC:20261031T230000
DTSTAMP:20260421T195511
CREATED:20260213T224528Z
LAST-MODIFIED:20260313T101145Z
UID:12128-1793473200-1793487600@showboatblackpool.com
SUMMARY:The Showboat Showstopper - 31st October
DESCRIPTION:BIGGER\, BOLDER & BACK for 2026! The Showboat Showstopper! \nThe Showboat Showstopper is a dazzling\, high class variety spectacular\, packed with big voices\, sharp comedy and showstopping moments from start to finish. \nHosted and starring the incomparable Reece Oliver\, the show is driven by quick wit\, effortless charm and laugh out loud comedy\, all delivered with impeccable timing and style. Reece leads the evening with a confident sparkle that keeps audiences engaged\, entertained\, and wanting more. \nBringing the music to life are powerhouse vocalists Andrew Geater\, Helen O’Neil and Rebecca Duignan\, delivering stunning live performances across a range of different music styles. Completing the spectacle are The Showboat Showgirls adding their slick choreography\, precision and flair that add a taste of luxury to the evening. \nBlending comedy\, live singing and dance\, The Showboat Showstopper is a celebration of classic entertainment with a modern high-end twist. Stylish\, fun and unapologetically entertaining\, it’s a night of pure showbiz magic where laughter is guaranteed\, the music shines\, and every moment sparkles. \nBOOK NOW for Blackpool’s best Summer Spectacular!
URL:https://showboatblackpool.com/event/the-showboat-showstopper-31st-october/
LOCATION:Ma Kellys Showboat\, Knowle Ave\, Blackpool\, Lancashire\, FY2 9RW\, United Kingdom
CATEGORIES:Saturday Events,Showstopper
ATTACH;FMTTYPE=image/jpeg:https://showboatblackpool.com/wp-content/uploads/2026/02/showstopper.jpeg
END:VEVENT
END:VCALENDAR