BEGIN:VCALENDAR
VERSION:2.0
PRODID:-//The Showboat Blackpool - ECPv6.15.17//NONSGML v1.0//EN
CALSCALE:GREGORIAN
METHOD:PUBLISH
X-ORIGINAL-URL:https://showboatblackpool.com
X-WR-CALDESC:Events for The Showboat Blackpool
REFRESH-INTERVAL;VALUE=DURATION:PT1H
X-Robots-Tag:noindex
X-PUBLISHED-TTL:PT1H
BEGIN:VTIMEZONE
TZID:UTC
BEGIN:STANDARD
TZOFFSETFROM:+0000
TZOFFSETTO:+0000
TZNAME:UTC
DTSTART:20250101T000000
END:STANDARD
END:VTIMEZONE
BEGIN:VEVENT
DTSTART;TZID=UTC:20260509T190000
DTEND;TZID=UTC:20260509T230000
DTSTAMP:20260421T181621
CREATED:20260204T153221Z
LAST-MODIFIED:20260205T095401Z
UID:11835-1778353200-1778367600@showboatblackpool.com
SUMMARY:Adele Tribute - One & Only
DESCRIPTION:A Stunning Adele Tribute One Night Only \nPrepare yourself for a truly unforgettable night at Showboat as the sensational Katie as Adele takes to the stage for a breath taking live tribute performance. \nFrom the very first note you will be drawn into an emotional journey that perfectly captures the power soul and vulnerability that have made Adele one of the most loved artists of our generation. With a remarkable vocal likeness and a commanding stage presence Katie delivers every song with passion warmth and authenticity. \nExpect goosebump moments as you sing along to timeless favourites including Hello\, Someone Like You\, When We Were Young\, Make You Feel My Love and All I Ask before the atmosphere lifts with powerful anthems like Rolling in the Deep\, Set Fire to the Rain and Rumour Has It. \nThis is more than a tribute show. It is an immersive live experience that celebrates the music stories and emotion behind Adele’s iconic catalogue all set in the intimate and electric surroundings of Showboat. \nPerfect for a night out with friends a romantic evening or a special occasion this one night only performance promises big vocals real emotion and a crowd singing every word. \nA world class tribute > Incredible live vocals > All the hits you know and love. \nDo not miss your chance to experience the magic. This is Adele as you have never heard her before.
URL:https://showboatblackpool.com/event/adele-tribute-one-only/
LOCATION:Ma Kellys Showboat\, Knowle Ave\, Blackpool\, Lancashire\, FY2 9RW\, United Kingdom
CATEGORIES:Saturday Events
ATTACH;FMTTYPE=image/jpeg:https://showboatblackpool.com/wp-content/uploads/2026/02/ADELE-2026-16X9.jpg
END:VEVENT
END:VCALENDAR