BEGIN:VCALENDAR
VERSION:2.0
PRODID:-//The Showboat Blackpool - ECPv6.15.17//NONSGML v1.0//EN
CALSCALE:GREGORIAN
METHOD:PUBLISH
X-WR-CALNAME:The Showboat Blackpool
X-ORIGINAL-URL:https://showboatblackpool.com
X-WR-CALDESC:Events for The Showboat Blackpool
REFRESH-INTERVAL;VALUE=DURATION:PT1H
X-Robots-Tag:noindex
X-PUBLISHED-TTL:PT1H
BEGIN:VTIMEZONE
TZID:UTC
BEGIN:STANDARD
TZOFFSETFROM:+0000
TZOFFSETTO:+0000
TZNAME:UTC
DTSTART:20250101T000000
END:STANDARD
END:VTIMEZONE
BEGIN:VEVENT
DTSTART;TZID=UTC:20260410T190000
DTEND;TZID=UTC:20260410T230000
DTSTAMP:20260421T151939
CREATED:20260213T210010Z
LAST-MODIFIED:20260313T101339Z
UID:11995-1775847600-1775862000@showboatblackpool.com
SUMMARY:The Showboat Showstopper - 10th April
DESCRIPTION:BIGGER\, BOLDER & BACK for 2026! The Showboat Showstopper! \nThe Showboat Showstopper is a dazzling\, high class variety spectacular\, packed with big voices\, sharp comedy and showstopping moments from start to finish. \nHosted and starring the incomparable Reece Oliver\, the show is driven by quick wit\, effortless charm and laugh out loud comedy\, all delivered with impeccable timing and style. Reece leads the evening with a confident sparkle that keeps audiences engaged\, entertained\, and wanting more. \nBringing the music to life are powerhouse vocalists Andrew Geater\, Helen O’Neil and Rebecca Duignan\, delivering stunning live performances across a range of different music styles. Completing the spectacle are The Showboat Showgirls adding their slick choreography\, precision and flair that add a taste of luxury to the evening. \nBlending comedy\, live singing and dance\, The Showboat Showstopper is a celebration of classic entertainment with a modern high-end twist. Stylish\, fun and unapologetically entertaining\, it’s a night of pure showbiz magic where laughter is guaranteed\, the music shines\, and every moment sparkles. \nBOOK NOW for Blackpool’s best Summer Spectacular!
URL:https://showboatblackpool.com/event/the-showboat-showstopper-10th-april/
LOCATION:Ma Kellys Showboat\, Knowle Ave\, Blackpool\, Lancashire\, FY2 9RW\, United Kingdom
CATEGORIES:Friday Events,Showstopper
ATTACH;FMTTYPE=image/jpeg:https://showboatblackpool.com/wp-content/uploads/2026/02/showstopper.jpeg
END:VEVENT
BEGIN:VEVENT
DTSTART;TZID=UTC:20260403T190000
DTEND;TZID=UTC:20260403T230000
DTSTAMP:20260421T151939
CREATED:20260213T205418Z
LAST-MODIFIED:20260313T101340Z
UID:11986-1775242800-1775257200@showboatblackpool.com
SUMMARY:The Showboat Showstopper - 3rd April
DESCRIPTION:BIGGER\, BOLDER & BACK for 2026! The Showboat Showstopper! \nThe Showboat Showstopper is a dazzling\, high class variety spectacular\, packed with big voices\, sharp comedy and showstopping moments from start to finish. \nHosted and starring the incomparable Reece Oliver\, the show is driven by quick wit\, effortless charm and laugh out loud comedy\, all delivered with impeccable timing and style. Reece leads the evening with a confident sparkle that keeps audiences engaged\, entertained\, and wanting more. \nBringing the music to life are powerhouse vocalists Andrew Geater\, Helen O’Neil and Rebecca Duignan\, delivering stunning live performances across a range of different music styles. Completing the spectacle are The Showboat Showgirls adding their slick choreography\, precision and flair that add a taste of luxury to the evening. \nBlending comedy\, live singing and dance\, The Showboat Showstopper is a celebration of classic entertainment with a modern high-end twist. Stylish\, fun and unapologetically entertaining\, it’s a night of pure showbiz magic where laughter is guaranteed\, the music shines\, and every moment sparkles. \nBOOK NOW for Blackpool’s best Summer Spectacular!
URL:https://showboatblackpool.com/event/the-showboat-showstopper-3rd-april/
LOCATION:Ma Kellys Showboat\, Knowle Ave\, Blackpool\, Lancashire\, FY2 9RW\, United Kingdom
CATEGORIES:Friday Events,Showstopper
ATTACH;FMTTYPE=image/jpeg:https://showboatblackpool.com/wp-content/uploads/2026/02/showstopper.jpeg
END:VEVENT
BEGIN:VEVENT
DTSTART;TZID=UTC:20260327T190000
DTEND;TZID=UTC:20260327T230000
DTSTAMP:20260421T151939
CREATED:20260213T205250Z
LAST-MODIFIED:20260313T101340Z
UID:11983-1774638000-1774652400@showboatblackpool.com
SUMMARY:The Showboat Showstopper - 27th March
DESCRIPTION:BIGGER\, BOLDER & BACK for 2026! The Showboat Showstopper! \nThe Showboat Showstopper is a dazzling\, high class variety spectacular\, packed with big voices\, sharp comedy and showstopping moments from start to finish. \nHosted and starring the incomparable Reece Oliver\, the show is driven by quick wit\, effortless charm and laugh out loud comedy\, all delivered with impeccable timing and style. Reece leads the evening with a confident sparkle that keeps audiences engaged\, entertained\, and wanting more. \nBringing the music to life are powerhouse vocalists Andrew Geater\, Helen O’Neil and Rebecca Duignan\, delivering stunning live performances across a range of different music styles. Completing the spectacle are The Showboat Showgirls adding their slick choreography\, precision and flair that add a taste of luxury to the evening. \nBlending comedy\, live singing and dance\, The Showboat Showstopper is a celebration of classic entertainment with a modern high-end twist. Stylish\, fun and unapologetically entertaining\, it’s a night of pure showbiz magic where laughter is guaranteed\, the music shines\, and every moment sparkles. \nBOOK NOW for Blackpool’s best Summer Spectacular!
URL:https://showboatblackpool.com/event/the-showboat-showstopper-27th-march/
LOCATION:Ma Kellys Showboat\, Knowle Ave\, Blackpool\, Lancashire\, FY2 9RW\, United Kingdom
CATEGORIES:Friday Events,Showstopper
ATTACH;FMTTYPE=image/jpeg:https://showboatblackpool.com/wp-content/uploads/2026/02/showstopper.jpeg
END:VEVENT
BEGIN:VEVENT
DTSTART;TZID=UTC:20260320T190000
DTEND;TZID=UTC:20260320T230000
DTSTAMP:20260421T151939
CREATED:20260213T132841Z
LAST-MODIFIED:20260313T101341Z
UID:11965-1774033200-1774047600@showboatblackpool.com
SUMMARY:The Showboat Showstopper - 20th March
DESCRIPTION:BIGGER\, BOLDER & BACK for 2026! The Showboat Showstopper! \nThe Showboat Showstopper is a dazzling\, high class variety spectacular\, packed with big voices\, sharp comedy and showstopping moments from start to finish. \nHosted and starring the incomparable Reece Oliver\, the show is driven by quick wit\, effortless charm and laugh out loud comedy\, all delivered with impeccable timing and style. Reece leads the evening with a confident sparkle that keeps audiences engaged\, entertained\, and wanting more. \nBringing the music to life are powerhouse vocalists Andrew Geater\, Helen O’Neil and Rebecca Duignan\, delivering stunning live performances across a range of different music styles. Completing the spectacle are The Showboat Showgirls adding their slick choreography\, precision and flair that add a taste of luxury to the evening. \nBlending comedy\, live singing and dance\, The Showboat Showstopper is a celebration of classic entertainment with a modern high-end twist. Stylish\, fun and unapologetically entertaining\, it’s a night of pure showbiz magic where laughter is guaranteed\, the music shines\, and every moment sparkles. \nBOOK NOW for Blackpool’s best Summer Spectacular!
URL:https://showboatblackpool.com/event/the-showboat-showstopper-20th-marc/
LOCATION:Ma Kellys Showboat\, Knowle Ave\, Blackpool\, Lancashire\, FY2 9RW\, United Kingdom
CATEGORIES:Friday Events,Showstopper
ATTACH;FMTTYPE=image/jpeg:https://showboatblackpool.com/wp-content/uploads/2026/02/showstopper.jpeg
END:VEVENT
BEGIN:VEVENT
DTSTART;TZID=UTC:20260313T190000
DTEND;TZID=UTC:20260313T230000
DTSTAMP:20260421T151939
CREATED:20260205T092821Z
LAST-MODIFIED:20260313T101341Z
UID:11844-1773428400-1773442800@showboatblackpool.com
SUMMARY:The Showboat Showstopper - 13th March
DESCRIPTION:BIGGER\, BOLDER & BACK for 2026! The Showboat Showstopper! \nThe Showboat Showstopper is a dazzling\, high class variety spectacular\, packed with big voices\, sharp comedy and showstopping moments from start to finish. \nHosted and starring the incomparable Reece Oliver\, the show is driven by quick wit\, effortless charm and laugh out loud comedy\, all delivered with impeccable timing and style. Reece leads the evening with a confident sparkle that keeps audiences engaged\, entertained\, and wanting more. \nBringing the music to life are powerhouse vocalists Andrew Geater\, Helen O’Neil and Rebecca Duignan\, delivering stunning live performances across a range of different music styles. Completing the spectacle are The Showboat Showgirls adding their slick choreography\, precision and flair that add a taste of luxury to the evening. \nBlending comedy\, live singing and dance\, The Showboat Showstopper is a celebration of classic entertainment with a modern high-end twist. Stylish\, fun and unapologetically entertaining\, it’s a night of pure showbiz magic where laughter is guaranteed\, the music shines\, and every moment sparkles. \nBOOK NOW for Blackpool’s best Summer Spectacular!
URL:https://showboatblackpool.com/event/the-showboat-showstopper-13th-march/
LOCATION:Ma Kellys Showboat\, Knowle Ave\, Blackpool\, Lancashire\, FY2 9RW\, United Kingdom
CATEGORIES:Friday Events,Showstopper
ATTACH;FMTTYPE=image/jpeg:https://showboatblackpool.com/wp-content/uploads/2026/02/showstopper.jpeg
END:VEVENT
END:VCALENDAR